BEGIN:VCALENDAR
VERSION:2.0
PRODID:-//AperitivoMat.no - ECPv6.15.20//NONSGML v1.0//EN
CALSCALE:GREGORIAN
METHOD:PUBLISH
X-WR-CALNAME:AperitivoMat.no
X-ORIGINAL-URL:https://www.aperitivomat.no
X-WR-CALDESC:Arrangement for AperitivoMat.no
REFRESH-INTERVAL;VALUE=DURATION:PT1H
X-Robots-Tag:noindex
X-PUBLISHED-TTL:PT1H
BEGIN:VTIMEZONE
TZID:Europe/Oslo
BEGIN:DAYLIGHT
TZOFFSETFROM:+0100
TZOFFSETTO:+0200
TZNAME:CEST
DTSTART:20240331T010000
END:DAYLIGHT
BEGIN:STANDARD
TZOFFSETFROM:+0200
TZOFFSETTO:+0100
TZNAME:CET
DTSTART:20241027T010000
END:STANDARD
BEGIN:DAYLIGHT
TZOFFSETFROM:+0100
TZOFFSETTO:+0200
TZNAME:CEST
DTSTART:20250330T010000
END:DAYLIGHT
BEGIN:STANDARD
TZOFFSETFROM:+0200
TZOFFSETTO:+0100
TZNAME:CET
DTSTART:20251026T010000
END:STANDARD
BEGIN:DAYLIGHT
TZOFFSETFROM:+0100
TZOFFSETTO:+0200
TZNAME:CEST
DTSTART:20260329T010000
END:DAYLIGHT
BEGIN:STANDARD
TZOFFSETFROM:+0200
TZOFFSETTO:+0100
TZNAME:CET
DTSTART:20261025T010000
END:STANDARD
END:VTIMEZONE
BEGIN:VEVENT
DTSTART;VALUE=DATE:20250429
DTEND;VALUE=DATE:20250430
DTSTAMP:20260421T093609
CREATED:20210407T125936Z
LAST-MODIFIED:20230413T062436Z
UID:10000956-1745884800-1745971199@www.aperitivomat.no
SUMMARY:Rekedagen i USA
DESCRIPTION:Reker fortjener vel også sin egen dag og i USA feirer de den 29. april. Det finnes ca. 2800 rekeslag i verden og de brukes til en mengde forskjellige matretter. Du finner noen av dem\, i tillegg til masse andre skalldyrretter\, HER. \n \n   \n  \nOm du vil abonnere på nyheter fra bloggen\, kan du melde deg på ved å sende oss e-postadressen din her. Nyhetsbrevet er helt gratis. \nDu kan også følge bloggen på Facebook.
URL:https://www.aperitivomat.no/event/rekedagen-i-usa/2025-04-29/
ATTACH;FMTTYPE=image/jpeg:https://e6d2y9fwjvj.exactdn.com/wp-content/uploads/Scampi-2.jpg
END:VEVENT
BEGIN:VEVENT
DTSTART;VALUE=DATE:20250427
DTEND;VALUE=DATE:20250428
DTSTAMP:20260421T093609
CREATED:20230213T074713Z
LAST-MODIFIED:20241111T140331Z
UID:10002218-1745712000-1745798399@www.aperitivomat.no
SUMMARY:Koningsdag
DESCRIPTION:Koningsdag – Nederlands nasjonaldag feires i dag. Nasjonaldagen sammenfaller alltid med regentens fødselsdag. Dagen feires med fester hvor deltakerne har oransje klær\, loppemarkeder\, konserter og div. tradisjonelle lokale sammenkomster. Du finner oppskrifter mat og drikke fra Nederland HER. \nOm du vil abonnere på nyheter fra bloggen\, kan du melde deg på ved å sende oss e-postadressen din her. Nyhetsbrevet er helt gratis. \nDu kan også følge bloggen på Facebook.
URL:https://www.aperitivomat.no/event/koningsdag/2025-04-27/
CATEGORIES:Nasjonaldager
ATTACH;FMTTYPE=image/jpeg:https://e6d2y9fwjvj.exactdn.com/wp-content/uploads/Nederland.jpg
END:VEVENT
BEGIN:VEVENT
DTSTART;VALUE=DATE:20250427
DTEND;VALUE=DATE:20250428
DTSTAMP:20260421T093609
CREATED:20220126T134331Z
LAST-MODIFIED:20230413T062041Z
UID:10001296-1745712000-1745798399@www.aperitivomat.no
SUMMARY:Sør-Afrikas nasjonaldag
DESCRIPTION:Sør-Afrikas nasjonaldag kalles også den nasjonale frihetsdagen og de feirer at de har hatt frie\, ikkeradikale\, demokratiske valg siden 1994. \nMaten fra Sør-Afrika er veldig variert og mye av den inneholder ingredienser vi ikke har hørt om i Norge. De serverer eksotiske retter som krokodillekjøtt og sauehoder\, men også matretter vi kjenner igjen fra Europa.\nOksekjøtt er det mest verdsatte kjøttet og vegetarmat blir møtt med forvirring. De fleste måltider serveres med grønnsaker som for eksempel gresskar\, bønner og kål. Du finner oppskrifter fra Sør-Afrika HER. \n  \nOm du vil abonnere på nyheter fra bloggen\, kan du melde deg på ved å sende oss e-postadressen din her. Nyhetsbrevet er helt gratis. \nDu kan også følge bloggen på Facebook.
URL:https://www.aperitivomat.no/event/sor-afrikas-nasjonaldag/2025-04-27/
CATEGORIES:Nasjonaldager
ATTACH;FMTTYPE=image/jpeg:https://e6d2y9fwjvj.exactdn.com/wp-content/uploads/Sor-Afrika.jpg
END:VEVENT
BEGIN:VEVENT
DTSTART;VALUE=DATE:20250426
DTEND;VALUE=DATE:20250427
DTSTAMP:20260421T093609
CREATED:20230410T015654Z
LAST-MODIFIED:20230420T120737Z
UID:10002742-1745625600-1745711999@www.aperitivomat.no
SUMMARY:Unionsdagen i Tanzania
DESCRIPTION:Unionsdagen i Tanzania feires i dag\, som en markering av at Tanganyika\, Zanzibar og Pemba ble forent i republikken Tanzania i 1964. \nTanzania har mattradisjoner som varierer veldig etter geografisk region. Langs kysten er maten godt krydret og de bruker mye kokosmelk. Lenger inn i landet\, spises det mye wali (ris)\, ugali (maisgrøt)\, nyama choma (grillet kjøtt)\, mshikaki (marinert biff)\, samaki (fisk)\, pilau (ris blandet med en krydder)\, biriyani og ndizi nyama (plantanas med kjøtt). \n  \nDu finner matretter fra Tanzania her. \n  \nOm du vil abonnere på nyheter fra bloggen\, kan du melde deg på ved å sende oss e-postadressen din her. Nyhetsbrevet er helt gratis. \nDu kan også følge bloggen på Facebook.
URL:https://www.aperitivomat.no/event/unionsdagen-i-tanzania/2025-04-26/
CATEGORIES:Nasjonaldager
ATTACH;FMTTYPE=image/jpeg:https://e6d2y9fwjvj.exactdn.com/wp-content/uploads/Tanz.jpg
END:VEVENT
BEGIN:VEVENT
DTSTART;VALUE=DATE:20250423
DTEND;VALUE=DATE:20250424
DTSTAMP:20260421T093609
CREATED:20210622T094145Z
LAST-MODIFIED:20230413T061736Z
UID:10001292-1745366400-1745452799@www.aperitivomat.no
SUMMARY:Den tyske øldagen
DESCRIPTION:Den tyske øldagen er en gammel merkedag. I Tyskland har de drukket øl siden 800-tallet\, så de har lange tradisjoner å feire. De har ca. 1300 bryggerier og over 5000 ølmerker. \nMannen i huset brygger øl fra tid til annen og  jeg er så heldig at jeg arver mesken og kan bake med den. Her finner du oppskrift på øllebrød. \n  \nOm du vil abonnere på nyheter fra bloggen\, kan du melde deg på ved å sende oss e-postadressen din her. Nyhetsbrevet er helt gratis. \nDu kan også følge bloggen på Facebook.
URL:https://www.aperitivomat.no/event/den-tyske-oldagen/2025-04-23/
ATTACH;FMTTYPE=image/jpeg:https://e6d2y9fwjvj.exactdn.com/wp-content/uploads/Ol.jpg
END:VEVENT
BEGIN:VEVENT
DTSTART;VALUE=DATE:20250422
DTEND;VALUE=DATE:20250423
DTSTAMP:20260421T093609
CREATED:20230302T070508Z
LAST-MODIFIED:20260420T073407Z
UID:10002736-1745280000-1745366399@www.aperitivomat.no
SUMMARY:Earth Day
DESCRIPTION:Earth Day er en årlig begivenhet 22. april til støtte for miljøvern. Den første Earth Day ble avholdt i 1970. Markering av dagen har stadig blitt mer utbredt og hvert år er det et offisielt tema. 2022 og 2023 har fått samme tema: \n\n2026: Our Power\, Our Planet\n2025: Our Power\, Our Planet\n2024: Planet vs. Plastics\n2023: Invest in Our Planet\n2022: Invest In Our Planet\n2021: Restore Our Earth\n2020: Climate Action\n2019: Protect Our Species\n2018: End Plastic Pollution\n2017: Environmental & Climate Literacy\n2016: Trees for the Earth\n2015: It’s Our Turn to Lead\n2014: Green Cities\n2013: The Face of Climate Change\n2012: Mobilize the Earth\n2011: Clear the Air\n2010: A Billion Acts of Green\n2009: How Do You Get Around\n2008: Trees Please\n2007: Be Kind to the Earth\n2006: Science and Faith\n2005: Healthy Environment for Children\n\nEarth Day kan markeres på mange forskjellige måter\, men jeg velger en vegetarisk meny i dag. Du finner oppskrifter på vegetarmat her. \n \nOm du vil abonnere på nyheter fra bloggen\, kan du melde deg på ved å sende oss e-postadressen din her. Nyhetsbrevet er helt gratis. \nDu kan også følge bloggen på Facebook.
URL:https://www.aperitivomat.no/event/earth-day/2025-04-22/
ATTACH;FMTTYPE=image/jpeg:https://e6d2y9fwjvj.exactdn.com/wp-content/uploads/Veg.jpg
END:VEVENT
BEGIN:VEVENT
DTSTART;VALUE=DATE:20250421
DTEND;VALUE=DATE:20250422
DTSTAMP:20260421T093609
CREATED:20230728T034600Z
LAST-MODIFIED:20230828T130653Z
UID:10001660-1745193600-1745279999@www.aperitivomat.no
SUMMARY:Tedagen
DESCRIPTION:Tedagen markeres i Storbritannia i 21. april hvert år. Te er den absolutte favorittdrikken og er også nasjonaldrikken deres. Du har kanskje hørt uttrykket «afternoon tea». Det er ikke bare te\, men gjerne et etasjefat med litt mat og litt kaker\, som nytes sammen med teen. Te kommer opprinnelig fra Myanmar og Kina og ble oppdaget flere tusen år før vår tidsregning. På 1400-1500 tallet utviklet kineserne en egen teseremoni\, så tedrikking er alvorlige saker. Det finnes fire basiskvaliter av te\, hvit te\, grønn te\, oolong og sort te. Te brukes ikke bare som drikke\, flere varianter er gode i mat også. Om du har lyst til å feire tedagen\, kan du lage deg en kopp\, eller gjøre som jeg\, lage en dessert av grønn te\, som du finner oppskrift på her. Du kan også teste den nye motedrikken\, buble tea\, som du finner oppskrift på her. \nBuble tea\nOm du vil abonnere på nyheter fra bloggen\, kan du melde deg på ved å sende oss e-postadressen din her. Nyhetsbrevet er helt gratis. \nDu kan også følge bloggen på Facebook.
URL:https://www.aperitivomat.no/event/tedagen/2025-04-21/
ATTACH;FMTTYPE=image/webp:https://e6d2y9fwjvj.exactdn.com/wp-content/uploads/Te.webp
END:VEVENT
END:VCALENDAR